BEGIN:VCALENDAR
VERSION:2.0
PRODID:-//hacksw/handcal//NONSGML v1.0//EN
BEGIN:VEVENT
SUMMARY:course d orientation biathlon
UID:6efbe17d-69d7-4c66-8a95-81aa0f7eacd5
DTSTART:20260401T110000Z
DTEND:20260401T130000Z
LOCATION:Localisation   
CATEGORIES:Sportif
STATUS:
URL;VALUE=URI:https://www.astaninges.fr/evenements/2026/04/01/course-d-orientation-biathlon-2433974
END:VEVENT
END:VCALENDAR
