BEGIN:VCALENDAR
VERSION:2.0
PRODID:-//hacksw/handcal//NONSGML v1.0//EN
BEGIN:VEVENT
SUMMARY:BADMINTON 13H  15H
UID:2e967f82-2823-4bfb-a893-d7a825140c53
DTSTART:20260429T110000Z
DTEND:20260429T123000Z
LOCATION:Localisation   
CATEGORIES:Sportif
STATUS:
DESCRIPTION:<p>Dernier seance de BADMINTON ouverte a Tous :des
 matchs,  des jeux,  un gouter !</p>
URL;VALUE=URI:https://www.astaninges.fr/evenements/2026/04/29/badminton-13h-15h-2444514
END:VEVENT
END:VCALENDAR
