BEGIN:VCALENDAR
VERSION:2.0
PRODID:-//hacksw/handcal//NONSGML v1.0//EN
BEGIN:VEVENT
SUMMARY:Entrainement En selle et Solidaires
UID:2220b585-5e22-4d7b-a22a-04ae4f22abb4
DTSTART:20260429T110000Z
DTEND:20260429T140000Z
LOCATION:Localisation   
CATEGORIES:Sportif
STATUS:
URL;VALUE=URI:https://www.astaninges.fr/evenements/2026/04/29/entrainement-en-selle-et-solidaires-2444526
END:VEVENT
END:VCALENDAR
